BEGIN:VCALENDAR
PRODID:-//Pixl8//Eventfolio//EN
VERSION:2.0
X-WR-TIMEZONE:Europe/London
CALSCALE:GREGORIAN
METHOD:PUBLISH
CLASS:PUBLIC
BEGIN:VTIMEZONE
TZID:Europe/London
LAST-MODIFIED:20260306T231828Z
TZURL:https://www.tzurl.org/zoneinfo-outlook/Europe/London
X-LIC-LOCATION:Europe/London
BEGIN:DAYLIGHT
TZNAME:BST
TZOFFSETFROM:+0000
TZOFFSETTO:+0100
DTSTART:19700329T010000
RRULE:FREQ=YEARLY;BYMONTH=3;BYDAY=-1SU
END:DAYLIGHT
BEGIN:STANDARD
TZNAME:GMT
TZOFFSETFROM:+0100
TZOFFSETTO:+0000
DTSTART:19701025T020000
RRULE:FREQ=YEARLY;BYMONTH=10;BYDAY=-1SU
END:STANDARD
END:VTIMEZONE
BEGIN:VEVENT
DTSTART;TZID=Europe/London:20260507T140000
DTEND;TZID=Europe/London:20260510T123000
DTSTAMP:20260421T092902Z
UID:{0D55C5A5-F6C5-4BF3-83930A9CE1B62E59}
LOCATION:Hilton\, Vjal Portomaso St Julian's PTM\, 01\, Malta
SUMMARY:Fibroblast Growth Factor Signalling in Development, Health & Disease Conference
DESCRIPTION:We aim to unite established and early-career researchers, to discuss key mechanistic and translational advances in cell signalling.\n
 \n
 Event details: https://www.ibms.org/resource-hub/event-calendar/fibroblast-growth-factor-signalling-in-development-health-disease-conference.html
PRIORITY:1
END:VEVENT
END:VCALENDAR