BEGIN:VCALENDAR
PRODID:-//Pixl8//Eventfolio//EN
VERSION:2.0
X-WR-TIMEZONE:Europe/London
CALSCALE:GREGORIAN
METHOD:PUBLISH
CLASS:PUBLIC
BEGIN:VTIMEZONE
TZID:Europe/London
LAST-MODIFIED:20260306T231828Z
TZURL:https://www.tzurl.org/zoneinfo-outlook/Europe/London
X-LIC-LOCATION:Europe/London
BEGIN:DAYLIGHT
TZNAME:BST
TZOFFSETFROM:+0000
TZOFFSETTO:+0100
DTSTART:19700329T010000
RRULE:FREQ=YEARLY;BYMONTH=3;BYDAY=-1SU
END:DAYLIGHT
BEGIN:STANDARD
TZNAME:GMT
TZOFFSETFROM:+0100
TZOFFSETTO:+0000
DTSTART:19701025T020000
RRULE:FREQ=YEARLY;BYMONTH=10;BYDAY=-1SU
END:STANDARD
END:VTIMEZONE
BEGIN:VEVENT
DTSTART;TZID=Europe/London:20260613T113000
DTEND;TZID=Europe/London:20260613T150000
DTSTAMP:20260422T073301Z
UID:{137A2A61-0987-4CF4-B859FE6DB0B77B35}
LOCATION:Institute of Biomedical Science
SUMMARY:IBMS AGM 2026
DESCRIPTION:The Institute is pleased to confirm that the eighty-fourth annual general meeting of the Institute of Biomedical Science (Institute) will be held at 12 Coldbath Square, London, EC1R 5HL and virtually on Saturday, 13th June 2026, at 11.30 am.\n
 \n
 Event details: https://www.ibms.org/resource-hub/event-calendar/ibms-agm-2026.html
PRIORITY:1
END:VEVENT
END:VCALENDAR