BEGIN:VCALENDAR
PRODID:-//Pixl8//Eventfolio//EN
VERSION:2.0
X-WR-TIMEZONE:Europe/London
CALSCALE:GREGORIAN
METHOD:PUBLISH
CLASS:PUBLIC
BEGIN:VTIMEZONE
TZID:Europe/London
LAST-MODIFIED:20260306T231828Z
TZURL:https://www.tzurl.org/zoneinfo-outlook/Europe/London
X-LIC-LOCATION:Europe/London
BEGIN:DAYLIGHT
TZNAME:BST
TZOFFSETFROM:+0000
TZOFFSETTO:+0100
DTSTART:19700329T010000
RRULE:FREQ=YEARLY;BYMONTH=3;BYDAY=-1SU
END:DAYLIGHT
BEGIN:STANDARD
TZNAME:GMT
TZOFFSETFROM:+0100
TZOFFSETTO:+0000
DTSTART:19701025T020000
RRULE:FREQ=YEARLY;BYMONTH=10;BYDAY=-1SU
END:STANDARD
END:VTIMEZONE
BEGIN:VEVENT
DTSTART;TZID=Europe/London:20260423T093000
DTEND;TZID=Europe/London:20260423T133000
DTSTAMP:20260422T175805Z
UID:{BA41CC0A-6F40-43B8-91C3D47457D5C9FF}
LOCATION:Teams
SUMMARY:Training the Trainers/Examiners: Specialist Portfolios
DESCRIPTION:An IBMS specialist portfolio webinar for trainers and current and future examiners. Attendance is required in order to apply to be a specialist portfolio examiner.\n
 \n
 Event details: https://www.ibms.org/resource-hub/event-calendar/training-the-trainers-examiners-specialist-portfolios-april-2026.html
PRIORITY:1
END:VEVENT
END:VCALENDAR