BEGIN:VCALENDAR
PRODID:-//Pixl8//Eventfolio//EN
VERSION:2.0
X-WR-TIMEZONE:Europe/London
CALSCALE:GREGORIAN
METHOD:PUBLISH
CLASS:PUBLIC
BEGIN:VTIMEZONE
TZID:Europe/London
LAST-MODIFIED:20260306T231828Z
TZURL:https://www.tzurl.org/zoneinfo-outlook/Europe/London
X-LIC-LOCATION:Europe/London
BEGIN:DAYLIGHT
TZNAME:BST
TZOFFSETFROM:+0000
TZOFFSETTO:+0100
DTSTART:19700329T010000
RRULE:FREQ=YEARLY;BYMONTH=3;BYDAY=-1SU
END:DAYLIGHT
BEGIN:STANDARD
TZNAME:GMT
TZOFFSETFROM:+0100
TZOFFSETTO:+0000
DTSTART:19701025T020000
RRULE:FREQ=YEARLY;BYMONTH=10;BYDAY=-1SU
END:STANDARD
END:VTIMEZONE
BEGIN:VEVENT
DTSTART;TZID=Europe/London:20260514T080000
DTEND;TZID=Europe/London:20260514T210000
DTSTAMP:20260421T092731Z
UID:{CFA67938-B609-488D-9E30D87080808738}
LOCATION:Scottish Gas Murrayfield Stadium
SUMMARY:Transforming Digital Pathology & AI: The Path Forward
DESCRIPTION:Applying AI in diagnostic workflows — lessons from real world digital pathology.\n
 \n
 Event details: https://www.ibms.org/resource-hub/event-calendar/transforming-digital-pathology-ai-the-path-forward-2026.html
PRIORITY:1
END:VEVENT
END:VCALENDAR